BEGIN:VCALENDAR
VERSION:2.0
PRODID:-//CiviCRM//NONSGML CiviEvent iCal//EN
X-WR-TIMEZONE:Europe/Berlin
METHOD:PUBLISH
BEGIN:VTIMEZONE
TZID:Europe/Berlin
BEGIN:DAYLIGHT
TZOFFSETFROM:+0200
TZOFFSETTO:+0200
TZNAME:CEST
DTSTART:20260507T090000
END:DAYLIGHT
END:VTIMEZONE
BEGIN:VEVENT
UID:CiviCRM_EventID_51_86c2eb0c66ed334b7ae392b532af3f87@crm.das-nettz.de
SUMMARY:NETTZ.Gespräch: Are The Adults Alright? Social Med
 ia für alle Generationen neu denken
X-ALT-DESC;FMTTYPE=text/html:<!DOCTYPE HTML PUBLIC
  "-//W3C//DTD HTML 3.2//EN"><html><body><p data-pm
 -slice="1 1 []"><strong>Wann? 07. Mai 2026 | 11:00
 -12:30 Uhr</strong></p>\n \n <p data-pm-slice="1 1
  []"><strong>Wo? Online per Zoom&nbsp\;</strong></
 p>\n \n <p data-pm-slice="1 1 []"><strong>Anmeldun
 gen sind bis zum 06. Mai m&ouml\;glich. Der Zoom-L
 ink zur Veranstaltung wird nach erfolgreicher Regi
 strierung kurz vor Beginn per E-Mail verschickt.&n
 bsp\;</strong><br />\n <br />\n Aktuell wird inten
 siv dar&uuml\;ber diskutiert\, ob und wie Social M
 edia f&uuml\;r Kinder und Jugendliche st&auml\;rke
 r reguliert oder sogar eingeschr&auml\;nkt werden 
 sollte. Dabei f&auml\;llt auf\, dass wir uns bei E
 rwachsenen viele kritische Fragen nicht stellen\, 
 die wir im Kontext von Kindern und Jugendlichen se
 lbstverst&auml\;ndlich diskutieren.&nbsp\;</p>\n \
 n <p data-pm-slice="1 1 []">In unserem z<strong>we
 iten NETTZ.Gespr&auml\;ch 2026 am 07. Mai</strong>
  greifen wir genau diese Leerstelle auf und fragen
 \, welche Konsequenzen sich daraus f&uuml\;r gesel
 lschaftliche Debatten\, politische Entscheidungen 
 und den Umgang mit Social Media insgesamt ergeben.
  Wir bringen unterschiedliche Perspektiven zusamme
 n und diskutieren mit dem Publikum:<br />\n <br />
 \n -&nbsp\;Welche (psychologischen) Risiken betref
 fen auch Erwachsene?<br />\n -&nbsp\;Welche Rolle 
 spielen Plattformdesign und Regulierung im Verglei
 ch zur individuellen Verantwortung?<br />\n -&nbsp
 \;Warum sind Verbotsdebatten vor allem im Jugendko
 ntext politisch anschlussf&auml\;hig?<br />\n - Un
 d welche besonderen Herausforderungen haben Eltern
 \, die sowohl ihr eigenes als auch das Social-<br 
 />\n &nbsp\;&nbsp\;Media-Verhalten ihrer Kinder na
 vigieren?</p>\n \n <p data-pm-slice="1 1 []">Gemei
 nsam wollen wir diskutieren\, welche Ans&auml\;tze
  alle Altersgruppen gleicherma&szlig\;en in den Bl
 ick nehmen k&ouml\;nnen.</p>\n \n <p><strong>Wir f
 reuen uns sehr auf die Perspektiven unserer Speake
 r*innen:</strong></p>\n \n <ul>\n 	<li>\n 	<p dir=
 "ltr">Katharina Kunze | Projektleiterin Digitaler 
 Engel\, Deutschland sicher im Netz e.V.</p>\n 	</l
 i>\n 	<li>\n 	<p dir="ltr">Dr. Konstantin Peveling
  | Bereichsleiter Medienpolitik &amp\; Plattformen
 \, Bitkom e. V.</p>\n 	</li>\n 	<li>\n 	<p dir="lt
 r">Moderation: Luisa Schmidt | Bereichsleitung For
 schung &amp\; Wirkung\, Das NETTZ</p>\n 	</li>\n <
 /ul>\n \n <p><strong>F&ouml\;rderhinweis:</strong>
 </p>\n \n <p>Das NETTZ.Gespr&auml\;ch ist eine Ver
 anstaltung von Das NETTZ als Teil von toneshift &n
 dash\; Netzwerk gegen Hass im Netz und Desinformat
 ion und wird gef&ouml\;rdert vom Bundesprogramm &b
 dquo\;Demokratie leben!&ldquo\; vom Bundesminister
 ium f&uuml\;r Bildung\, Familien\, Senioren\, Frau
 en und Jugend. F&uuml\;r inhaltliche Aussagen und 
 Meinungs&auml\;u&szlig\;erungen tragen die Publizi
 erenden dieser Ver&ouml\;ffentlichung die Verantwo
 rtung.</p></body></html>
DESCRIPTION:Wann? 07. Mai 2026 | 11:00-12:30 Uhr\n \n \n \n Wo
 ? Online per Zoom \n \n \n \n Anmeldungen sind bis
  zum 06. Mai möglich. Der Zoom-Link zur Veranstalt
 ung wird nach erfolgreicher Registrierung kurz vor
  Beginn per E-Mail verschickt. \n \n \n \n Aktuell
  wird intensiv darüber diskutiert\, ob und wie Soc
 ial Media für Kinder und Jugendliche stärker regul
 iert oder sogar eingeschränkt werden sollte. Dabei
  fällt auf\, dass wir uns bei Erwachsenen viele kr
 itische Fragen nicht stellen\, die wir im Kontext 
 von Kindern und Jugendlichen selbstverständlich di
 skutieren. \n \n \n \n In unserem zweiten NETTZ.Ge
 spräch 2026 am 07. Mai greifen wir genau diese Lee
 rstelle auf und fragen\, welche Konsequenzen sich 
 daraus für gesellschaftliche Debatten\, politische
  Entscheidungen und den Umgang mit Social Media in
 sgesamt ergeben. Wir bringen unterschiedliche Pers
 pektiven zusammen und diskutieren mit dem Publikum
 :\n \n \n \n - Welche (psychologischen) Risiken be
 treffen auch Erwachsene?\n \n - Welche Rolle spiel
 en Plattformdesign und Regulierung im Vergleich zu
 r individuellen Verantwortung?\n \n - Warum sind V
 erbotsdebatten vor allem im Jugendkontext politisc
 h anschlussfähig?\n \n - Und welche besonderen Her
 ausforderungen haben Eltern\, die sowohl ihr eigen
 es als auch das Social-\n \n   Media-Verhalten ihr
 er Kinder navigieren?\n \n \n \n Gemeinsam wollen 
 wir diskutieren\, welche Ansätze alle Altersgruppe
 n gleichermaßen in den Blick nehmen können.\n \n \
 n \n Wir freuen uns sehr auf die Perspektiven unse
 rer Speaker*innen:\n \n \n \n \n 	\n 	Katharina Ku
 nze | Projektleiterin Digitaler Engel\, Deutschlan
 d sicher im Netz e.V.\n \n \n 	\n 	\n 	Dr. Konstan
 tin Peveling | Bereichsleiter Medienpolitik & Plat
 tformen\, Bitkom e. V.\n \n \n 	\n 	\n 	Moderation
 : Luisa Schmidt | Bereichsleitung Forschung & Wirk
 ung\, Das NETTZ\n \n \n 	\n \n \n Förderhinweis:\n
  \n \n \n Das NETTZ.Gespräch ist eine Veranstaltun
 g von Das NETTZ als Teil von toneshift – Netzwerk 
 gegen Hass im Netz und Desinformation und wird gef
 ördert vom Bundesprogramm „Demokratie leben!“ vom 
 Bundesministerium für Bildung\, Familien\, Seniore
 n\, Frauen und Jugend. Für inhaltliche Aussagen un
 d Meinungsäußerungen tragen die Publizierenden die
 ser Veröffentlichung die Verantwortung.\n \n 
CATEGORIES:NETTZ.Gespräch
CALSCALE:GREGORIAN
DTSTAMP;TZID=Europe/Berlin:20260507T110000
DTSTART;TZID=Europe/Berlin:20260507T110000
DTEND;TZID=Europe/Berlin:20260507T123000
URL:https://crm.das-nettz.de/civicrm/event/info?reset=1&id=51
END:VEVENT
END:VCALENDAR
