BEGIN:VCALENDAR
VERSION:2.0
PRODID:-//CiviCRM//NONSGML CiviEvent iCal//EN
X-WR-TIMEZONE:Europe/Berlin
METHOD:PUBLISH
BEGIN:VTIMEZONE
TZID:Europe/Berlin
BEGIN:DAYLIGHT
TZOFFSETFROM:+0200
TZOFFSETTO:+0200
TZNAME:CEST
DTSTART:20260513T090000
END:DAYLIGHT
END:VTIMEZONE
BEGIN:VEVENT
UID:CiviCRM_EventID_52_86c2eb0c66ed334b7ae392b532af3f87@crm.das-nettz.de
SUMMARY:NETTZ.Gespräch: Wirksam widersprechen – Strategien
  gegen Geschichtsrevisionismus auf Social Media
X-ALT-DESC;FMTTYPE=text/html:<!DOCTYPE HTML PUBLIC
  "-//W3C//DTD HTML 3.2//EN"><html><body><p data-pm
 -slice="1 1 []"><strong>Wann? 13. Mai 2026 | 11:00
 -12:30 Uhr</strong></p>\n \n <p data-pm-slice="1 1
  []"><strong>Wo? Online per Zoom</strong></p>\n \n
  <p data-pm-slice="1 1 []"><strong>Anmeldungen sin
 d bis zum 12. Mai m&ouml\;glich. Der Zoom-Link zur
  Veranstaltung wird nach erfolgreicher Registrieru
 ng kurz vor Beginn per E-Mail verschickt.&nbsp\;</
 strong><br />\n <br />\n Im Rahmen eines Kooperati
 onsprojekts haben sich Das NETTZ und die Stiftung 
 EVZ gemeinsam mit Expert*innen der historisch-poli
 tischen Bildung in einem Werkstattprozess mit Gesc
 hichtsrevisionismus in digitalen R&auml\;umen besc
 h&auml\;ftigt. Im Fokus stand die Frage\, wie hist
 orisch-politische Bildungsarbeit auf Social Media 
 gest&auml\;rkt werden kann\, um Geschichtsrevision
 ismus wirksam entgegenzutreten.<br />\n <br />\n I
 n unserem <strong>dritten NETTZ.Gespr&auml\;ch am 
 13. Mai</strong> stellen wir erste Erkenntnisse so
 wie Vorschl&auml\;ge f&uuml\;r einen praxisorienti
 erten Leitfaden vor und laden zur gemeinsamen Disk
 ussion ein:<br />\n <br />\n -&nbsp\;Welche Heraus
 forderungen ergeben sich f&uuml\;r die historisch-
 politische Bildung im digitalen Raum?<br />\n - Wa
 s braucht es\, um geschichtsrevisionistischen Narr
 ativen auf Social Media zu begegnen?<br />\n - Und
  wie k&ouml\;nnen zivilgesellschaftliche Akteur:in
 nen nachhaltig unterst&uuml\;tzt werden?<br />\n <
 br />\n Gemeinsam mit Expert:innen und dem Publiku
 m m&ouml\;chten wir die Ergebnisse einordnen\, wei
 terdenken und praxisnahe Impulse f&uuml\;r die Arb
 eit im Feld entwickeln. Moderiert wird das Gespr&a
 uml\;ch von Luisa Schmidt von Das NETTZ.</p>\n \n 
 <p style="line-height: 1.38\; background-color: rg
 b(255\, 255\, 255)\; margin-top: 16px\; padding: 0
 pt 0pt 12pt\;"><br />\n <strong>F&ouml\;rderhinwei
 s:</strong></p>\n \n <p>Das NETTZ.Gespr&auml\;ch i
 st eine Veranstaltung von Das NETTZ als Teil von t
 oneshift &ndash\; Netzwerk gegen Hass im Netz und 
 Desinformation und wird gef&ouml\;rdert vom Bundes
 programm &bdquo\;Demokratie leben!&ldquo\; vom Bun
 desministerium f&uuml\;r Bildung\, Familien\, Seni
 oren\, Frauen und Jugend. F&uuml\;r inhaltliche Au
 ssagen und Meinungs&auml\;u&szlig\;erungen tragen 
 die Publizierenden dieser Ver&ouml\;ffentlichung d
 ie Verantwortung.</p></body></html>
DESCRIPTION:Wann? 13. Mai 2026 | 11:00-12:30 Uhr\n \n \n \n Wo
 ? Online per Zoom\n \n \n \n Anmeldungen sind bis 
 zum 12. Mai möglich. Der Zoom-Link zur Veranstaltu
 ng wird nach erfolgreicher Registrierung kurz vor 
 Beginn per E-Mail verschickt. \n \n \n \n Im Rahme
 n eines Kooperationsprojekts haben sich Das NETTZ 
 und die Stiftung EVZ gemeinsam mit Expert*innen de
 r historisch-politischen Bildung in einem Werkstat
 tprozess mit Geschichtsrevisionismus in digitalen 
 Räumen beschäftigt. Im Fokus stand die Frage\, wie
  historisch-politische Bildungsarbeit auf Social M
 edia gestärkt werden kann\, um Geschichtsrevisioni
 smus wirksam entgegenzutreten.\n \n \n \n In unser
 em dritten NETTZ.Gespräch am 13. Mai stellen wir e
 rste Erkenntnisse sowie Vorschläge für einen praxi
 sorientierten Leitfaden vor und laden zur gemeinsa
 men Diskussion ein:\n \n \n \n - Welche Herausford
 erungen ergeben sich für die historisch-politische
  Bildung im digitalen Raum?\n \n - Was braucht es\
 , um geschichtsrevisionistischen Narrativen auf So
 cial Media zu begegnen?\n \n - Und wie können zivi
 lgesellschaftliche Akteur:innen nachhaltig unterst
 ützt werden?\n \n \n \n Gemeinsam mit Expert:innen
  und dem Publikum möchten wir die Ergebnisse einor
 dnen\, weiterdenken und praxisnahe Impulse für die
  Arbeit im Feld entwickeln. Moderiert wird das Ges
 präch von Luisa Schmidt von Das NETTZ.\n \n \n \n 
 \n \n Förderhinweis:\n \n \n \n Das NETTZ.Gespräch
  ist eine Veranstaltung von Das NETTZ als Teil von
  toneshift – Netzwerk gegen Hass im Netz und Desin
 formation und wird gefördert vom Bundesprogramm „D
 emokratie leben!“ vom Bundesministerium für Bildun
 g\, Familien\, Senioren\, Frauen und Jugend. Für i
 nhaltliche Aussagen und Meinungsäußerungen tragen 
 die Publizierenden dieser Veröffentlichung die Ver
 antwortung.\n \n 
CATEGORIES:NETTZ.Gespräch
CALSCALE:GREGORIAN
DTSTAMP;TZID=Europe/Berlin:20260513T110000
DTSTART;TZID=Europe/Berlin:20260513T110000
DTEND;TZID=Europe/Berlin:20260513T123000
URL:https://crm.das-nettz.de/civicrm/event/info?reset=1&id=52
END:VEVENT
END:VCALENDAR
